View In:
ArcGIS JavaScript
ArcGIS Online Map Viewer
ArcGIS Earth
Service Description: FultonCounty_OH_Nearmap_SP22
Name: FultonCounty_OH_Nearmap_SP22
Description:
Single Fused Map Cache: false
Extent:
XMin: 1449244.0607908368
YMin: 665668.2182126876
XMax: 1592432.950751084
YMax: 752021.6838423074
Spatial Reference: 103129
(6549)
Initial Extent:
XMin: 1449244.0607908368
YMin: 665668.2182126876
XMax: 1592432.950751084
YMax: 752021.6838423074
Spatial Reference: 103129
(6549)
Full Extent:
XMin: 1449244.0607908368
YMin: 665668.2182126876
XMax: 1592432.950751084
YMax: 752021.6838423074
Spatial Reference: 103129
(6549)
Pixel Size X: 0.18999035373886386
Pixel Size Y: 0.18999035373886403
Band Count: 4
Pixel Type: U8
RasterFunction Infos: {"rasterFunctionInfos": [{
"name": "None",
"description": "",
"help": ""
}]}
Mensuration Capabilities: Basic
Inspection Capabilities:
Has Histograms: true
Has Colormap: false
Has Multi Dimensions : false
Rendering Rule:
Min Scale: 0
Max Scale: 0
Copyright Text:
Service Data Type: esriImageServiceDataTypeGeneric
Min Values: 0, 0, 0, 0
Max Values: 173, 161, 150, 255
Mean Values: 124.07181677019, 102.91983695652, 83.282026397516, 239.76184006211
Standard Deviation Values: 30.622803596593, 25.102862503588, 20.659033259339, 54.631936107807
Object ID Field:
Fields:
None
Default Mosaic Method: Center
Allowed Mosaic Methods:
SortField:
SortValue: null
Mosaic Operator: First
Default Compression Quality: 75
Default Resampling Method: Bilinear
Max Record Count: null
Max Image Height: 4100
Max Image Width: 15000
Max Download Image Count: null
Max Mosaic Image Count: null
Allow Raster Function: true
Allow Copy: true
Allow Analysis: true
Allow Compute TiePoints: false
Supports Statistics: false
Supports Advanced Queries: false
Use StandardizedQueries: true
Raster Type Infos:
Name: Raster Dataset
Description: Supports all ArcGIS Raster Datasets
Help:
Has Raster Attribute Table: false
Edit Fields Info: null
Ownership Based AccessControl For Rasters: null
Child Resources:
Info
Histograms
Statistics
Key Properties
Legend
Raster Function Infos
Supported Operations:
Export Image
Identify
Measure
Compute Histograms
Compute Statistics Histograms
Get Samples
Compute Class Statistics
Query Boundary
Compute Pixel Location
Compute Angles
Validate
Project