{
 "currentVersion": 11.2,
 "serviceDescription": "FultonCounty_OH_Nearmap_SP22",
 "name": "FultonCounty_OH_Nearmap_SP22",
 "description": "",
 "extent": {
  "xmin": 1449244.0607908368,
  "ymin": 665668.2182126876,
  "xmax": 1592432.950751084,
  "ymax": 752021.6838423074,
  "spatialReference": {
   "wkid": 103129,
   "latestWkid": 6549
  }
 },
 "initialExtent": {
  "xmin": 1449244.0607908368,
  "ymin": 665668.2182126876,
  "xmax": 1592432.950751084,
  "ymax": 752021.6838423074,
  "spatialReference": {
   "wkid": 103129,
   "latestWkid": 6549
  }
 },
 "fullExtent": {
  "xmin": 1449244.0607908368,
  "ymin": 665668.2182126876,
  "xmax": 1592432.950751084,
  "ymax": 752021.6838423074,
  "spatialReference": {
   "wkid": 103129,
   "latestWkid": 6549
  }
 },
 "sortableFields": "",
 "bandCount": 4,
 "pixelType": "U8",
 "minValues": [
  0,
  0,
  0,
  0
 ],
 "maxValues": [
  173,
  161,
  150,
  255
 ],
 "meanValues": [
  124.07181677019,
  102.91983695652,
  83.282026397516,
  239.76184006211
 ],
 "stdvValues": [
  30.622803596593,
  25.102862503588,
  20.659033259339,
  54.631936107807
 ],
 "hasMultidimensions": false,
 "pixelSizeX": 0.18999035373886386,
 "pixelSizeY": 0.18999035373886403,
 "meanPixelSize": 0.057909175637957014,
 "datasetFormat": "MrSID",
 "uncompressedSize": 1370206371840,
 "blockWidth": 1024,
 "blockHeight": 128,
 "compressionType": "Wavelet (MG4)",
 "bandNames": [
  "Band_1",
  "Band_2",
  "Band_3",
  "Band_4"
 ],
 "allowCopy": true,
 "allowAnalysis": true,
 "itemAccess": false,
 "inspectionCapabilities": "",
 "noDataValue": 0,
 "noDataValues": [
  0,
  0,
  0,
  0
 ],
 "minPixelSize": 0,
 "maxPixelSize": 0,
 "copyrightText": "",
 "serviceDataType": "esriImageServiceDataTypeGeneric",
 "serviceSourceType": "esriImageServiceSourceTypeDataset",
 "objectIdField": "",
 "fields": [],
 "capabilities": "Image,Metadata,Mensuration",
 "defaultMosaicMethod": "Center",
 "allowedMosaicMethods": "",
 "sortField": "",
 "sortValue": null,
 "sortAscending": true,
 "mosaicOperator": "First",
 "defaultCompressionQuality": 75,
 "defaultResamplingMethod": "Bilinear",
 "maxImageHeight": 4100,
 "maxImageWidth": 15000,
 "allowRasterFunction": true,
 "rasterFunctionInfos": [
  {
   "name": "None",
   "description": "",
   "help": ""
  }
 ],
 "rasterTypeInfos": [
  {
   "name": "Raster Dataset",
   "description": "Supports all ArcGIS Raster Datasets",
   "help": ""
  }
 ],
 "mensurationCapabilities": "Basic",
 "hasHistograms": true,
 "hasColormap": false,
 "hasRasterAttributeTable": false,
 "minScale": 0,
 "maxScale": 0,
 "exportTilesAllowed": false,
 "supportsStatistics": false,
 "supportsAdvancedQueries": false,
 "editFieldsInfo": null,
 "ownershipBasedAccessControlForRasters": null,
 "allowComputeTiePoints": false,
 "useStandardizedQueries": true,
 "advancedQueryCapabilities": {
  "useStandardizedQueries": true,
  "supportsStatistics": false,
  "supportsOrderBy": false,
  "supportsDistinct": false,
  "supportsPagination": false
 },
 "spatialReference": {
  "wkid": 103129,
  "latestWkid": 6549
 }
}
