View In:
ArcGIS JavaScript
ArcGIS Online Map Viewer
ArcGIS Earth
Service Description: FultonCounty_OH_Nearmap_Sp23_BaseMap
Name: FultonCounty_OH_Nearmap_Sp23_BaseMap
Description:
Single Fused Map Cache: false
Extent:
XMin: 1449488.75
YMin: 666410.0
XMax: 1591891.75
YMax: 751126.75
Spatial Reference: 103129
(6549)
LatestVCSWkid(0)
Initial Extent:
XMin: 1449488.75
YMin: 666410.0
XMax: 1591891.75
YMax: 751126.75
Spatial Reference: 103129
(6549)
LatestVCSWkid(0)
Full Extent:
XMin: 1449488.75
YMin: 666410.0
XMax: 1591891.75
YMax: 751126.75
Spatial Reference: 103129
(6549)
LatestVCSWkid(0)
Pixel Size X: 0.25
Pixel Size Y: 0.25
Band Count: 4
Pixel Type: U8
RasterFunction Infos: {"rasterFunctionInfos": [{
"name": "None",
"description": "",
"help": ""
}]}
Mensuration Capabilities: Basic
Inspection Capabilities:
Has Histograms: true
Has Colormap: false
Has Multi Dimensions : false
Rendering Rule:
Min Scale: 0
Max Scale: 0
Copyright Text:
Service Data Type: esriImageServiceDataTypeGeneric
Min Values: 0, 0, 0, 0
Max Values: 255, 255, 255, 255
Mean Values: 118.07971073117, 101.79523661325, 81.315600457601, 239.964842363
Standard Deviation Values: 45.754837965358, 39.589129799975, 34.114629717061, 60.065873291059
Object ID Field:
Fields:
None
Default Mosaic Method: Center
Allowed Mosaic Methods:
SortField:
SortValue: null
Mosaic Operator: First
Default Compression Quality: 75
Default Resampling Method: Bilinear
Max Record Count: null
Max Image Height: 4100
Max Image Width: 15000
Max Download Image Count: null
Max Mosaic Image Count: null
Allow Raster Function: true
Allow Copy: false
Allow Analysis: true
Allow Compute TiePoints: false
Supports Statistics: false
Supports Advanced Queries: false
Use StandardizedQueries: true
Raster Type Infos:
Name: Raster Dataset
Description: Supports all ArcGIS Raster Datasets
Help:
Has Raster Attribute Table: false
Edit Fields Info: null
Ownership Based AccessControl For Rasters: null
Child Resources:
Info
Histograms
Statistics
Key Properties
Legend
Raster Function Infos
Supported Operations:
Export Image
Identify
Measure
Compute Histograms
Compute Statistics Histograms
Get Samples
Compute Class Statistics
Query Boundary
Compute Pixel Location
Compute Angles
Validate
Project