View In:
ArcGIS JavaScript
ArcGIS Online Map Viewer
ArcGIS Earth
Service Description: FultonCounty_OH_Nearmap_SP21
Name: FultonCounty_OH_Nearmap_SP21
Description:
Single Fused Map Cache: false
Extent:
XMin: 440529.91418992396
YMin: 202995.656855996
XMax: 485591.63607664395
YMax: 230354.55943007598
Spatial Reference: 0
(0)
LatestVCSWkid(0)
Initial Extent:
XMin: 440529.91418992396
YMin: 202995.656855996
XMax: 485591.63607664395
YMax: 230354.55943007598
Spatial Reference: 0
(0)
LatestVCSWkid(0)
Full Extent:
XMin: 440529.91418992396
YMin: 202995.656855996
XMax: 485591.63607664395
YMax: 230354.55943007598
Spatial Reference: 0
(0)
LatestVCSWkid(0)
Pixel Size X: 0.07620015199999998
Pixel Size Y: 0.07620015199999995
Band Count: 4
Pixel Type: U8
RasterFunction Infos: {"rasterFunctionInfos": [{
"name": "None",
"description": "",
"help": ""
}]}
Mensuration Capabilities: Basic
Inspection Capabilities:
Has Histograms: true
Has Colormap: false
Has Multi Dimensions : false
Rendering Rule:
Min Scale: 0
Max Scale: 0
Copyright Text:
Service Data Type: esriImageServiceDataTypeGeneric
Min Values: 0, 0, 0, 0
Max Values: 255, 255, 255, 255
Mean Values: 132.37297633873, 118.90815691158, 106.84682440847, 235.02117061021
Standard Deviation Values: 48.53907149403, 47.130868603367, 46.585867361903, 68.219840407903
Object ID Field:
Fields:
None
Default Mosaic Method: Center
Allowed Mosaic Methods:
SortField:
SortValue: null
Mosaic Operator: First
Default Compression Quality: 75
Default Resampling Method: Bilinear
Max Record Count: null
Max Image Height: 4100
Max Image Width: 15000
Max Download Image Count: null
Max Mosaic Image Count: null
Allow Raster Function: true
Allow Copy: true
Allow Analysis: true
Allow Compute TiePoints: false
Supports Statistics: false
Supports Advanced Queries: false
Use StandardizedQueries: true
Raster Type Infos:
Name: Raster Dataset
Description: Supports all ArcGIS Raster Datasets
Help:
Has Raster Attribute Table: false
Edit Fields Info: null
Ownership Based AccessControl For Rasters: null
Child Resources:
Info
Histograms
Statistics
Key Properties
Legend
Raster Function Infos
Supported Operations:
Export Image
Identify
Measure
Compute Histograms
Compute Statistics Histograms
Get Samples
Compute Class Statistics
Query Boundary
Compute Pixel Location
Compute Angles
Validate
Project