View In:
ArcGIS JavaScript
ArcGIS Online Map Viewer
ArcGIS Earth
Service Description: FultonCountyOH2024AerialImagery
Name: FultonCountyOH2024AerialImagery
Description:
Single Fused Map Cache: false
Extent:
XMin: 1447775.999999995
YMin: 665279.998257605
XMax: 1592976.002903995
YMax: 752400.000000005
Spatial Reference: 102722
(3734)
LatestVCSWkid(0)
Initial Extent:
XMin: 1447775.999999995
YMin: 665279.998257605
XMax: 1592976.002903995
YMax: 752400.000000005
Spatial Reference: 102722
(3734)
LatestVCSWkid(0)
Full Extent:
XMin: 1447775.999999995
YMin: 665279.998257605
XMax: 1592976.002903995
YMax: 752400.000000005
Spatial Reference: 102722
(3734)
LatestVCSWkid(0)
Pixel Size X: 0.16666667
Pixel Size Y: 0.16666667
Band Count: 4
Pixel Type: U8
RasterFunction Infos: {"rasterFunctionInfos": [{
"name": "None",
"description": "",
"help": ""
}]}
Mensuration Capabilities: Basic
Inspection Capabilities:
Has Histograms: true
Has Colormap: false
Has Multi Dimensions : false
Rendering Rule:
Min Scale: 0
Max Scale: 0
Copyright Text:
Service Data Type: esriImageServiceDataTypeProcessed
Min Values: 0, 0, 0, 0
Max Values: 213, 189, 161, 255
Mean Values: 125.63492990654, 108.65639602804, 84.545560747664, 240.38653621495
Standard Deviation Values: 38.656019824688, 32.890470889441, 26.955348227208, 57.589928456409
Object ID Field:
Fields:
None
Default Mosaic Method: Center
Allowed Mosaic Methods:
SortField:
SortValue: null
Mosaic Operator: First
Default Compression Quality: 75
Default Resampling Method: Bilinear
Max Record Count: null
Max Image Height: 4100
Max Image Width: 15000
Max Download Image Count: null
Max Mosaic Image Count: null
Allow Raster Function: true
Allow Copy: true
Allow Analysis: true
Allow Compute TiePoints: false
Supports Statistics: false
Supports Advanced Queries: false
Use StandardizedQueries: true
Raster Type Infos:
Name: Raster Dataset
Description: Supports all ArcGIS Raster Datasets
Help:
Has Raster Attribute Table: false
Edit Fields Info: null
Ownership Based AccessControl For Rasters: null
Child Resources:
Info
Histograms
Statistics
Key Properties
Legend
Raster Function Infos
Supported Operations:
Export Image
Identify
Measure
Compute Histograms
Compute Statistics Histograms
Get Samples
Compute Class Statistics
Query Boundary
Compute Pixel Location
Compute Angles
Validate
Project