{
 "currentVersion": 11.3,
 "serviceDescription": "OHFULT25_SID_2INCH",
 "name": "OHFULT25_SID_2INCH",
 "description": "",
 "extent": {
  "xmin": 1447775.999999995,
  "ymin": 665279.998257605,
  "xmax": 1592976.002903995,
  "ymax": 752400.000000005,
  "spatialReference": {
   "wkid": 102722,
   "latestWkid": 3734
  }
 },
 "initialExtent": {
  "xmin": 1447775.999999995,
  "ymin": 665279.998257605,
  "xmax": 1592976.002903995,
  "ymax": 752400.000000005,
  "spatialReference": {
   "wkid": 102722,
   "latestWkid": 3734
  }
 },
 "fullExtent": {
  "xmin": 1447775.999999995,
  "ymin": 665279.998257605,
  "xmax": 1592976.002903995,
  "ymax": 752400.000000005,
  "spatialReference": {
   "wkid": 102722,
   "latestWkid": 3734
  }
 },
 "sortableFields": "",
 "bandCount": 4,
 "pixelType": "U8",
 "minValues": [
  1,
  1,
  0,
  0
 ],
 "maxValues": [
  218,
  190,
  161,
  255
 ],
 "meanValues": [
  149.76791493296,
  126.01402373247,
  73.672368623825,
  240.38653621495
 ],
 "stdvValues": [
  22.147387602301,
  18.503779290349,
  18.609463635469,
  57.589928456409
 ],
 "hasMultidimensions": false,
 "pixelSizeX": 0.16666667,
 "pixelSizeY": 0.16666667,
 "meanPixelSize": 0.05080010261620523,
 "datasetFormat": "MrSID",
 "uncompressedSize": 1821574656000,
 "blockWidth": 1024,
 "blockHeight": 128,
 "compressionType": "Wavelet (MG4)",
 "bandNames": [
  "Band_1",
  "Band_2",
  "Band_3",
  "Band_4"
 ],
 "allowCopy": true,
 "allowAnalysis": true,
 "itemAccess": false,
 "inspectionCapabilities": "",
 "minPixelSize": 0,
 "maxPixelSize": 0,
 "copyrightText": "",
 "serviceDataType": "esriImageServiceDataTypeProcessed",
 "serviceSourceType": "esriImageServiceSourceTypeDataset",
 "objectIdField": "",
 "fields": [],
 "capabilities": "Mensuration,Image,Metadata",
 "defaultMosaicMethod": "Center",
 "allowedMosaicMethods": "",
 "sortField": "",
 "sortValue": null,
 "sortAscending": true,
 "mosaicOperator": "First",
 "defaultCompressionQuality": 75,
 "defaultResamplingMethod": "Bilinear",
 "maxImageHeight": 4100,
 "maxImageWidth": 15000,
 "allowRasterFunction": true,
 "rasterFunctionInfos": [
  {
   "name": "None",
   "description": "",
   "help": ""
  }
 ],
 "rasterTypeInfos": [
  {
   "name": "Raster Dataset",
   "description": "Supports all ArcGIS Raster Datasets",
   "help": ""
  }
 ],
 "mensurationCapabilities": "Basic",
 "hasHistograms": true,
 "hasColormap": false,
 "hasRasterAttributeTable": false,
 "minScale": 0,
 "maxScale": 0,
 "exportTilesAllowed": false,
 "supportsStatistics": false,
 "supportsAdvancedQueries": false,
 "editFieldsInfo": null,
 "ownershipBasedAccessControlForRasters": null,
 "allowComputeTiePoints": false,
 "useStandardizedQueries": true,
 "advancedQueryCapabilities": {
  "useStandardizedQueries": true,
  "supportsStatistics": false,
  "supportsOrderBy": false,
  "supportsDistinct": false,
  "supportsPagination": false
 },
 "spatialReference": {
  "wkid": 102722,
  "latestWkid": 3734
 },
 "resampling": false
}
