{
 "currentVersion": 11.2,
 "serviceDescription": "FultonCounty_OH_Nearmap_Sp23_BaseMap",
 "name": "FultonCounty_OH_Nearmap_Sp23_BaseMap",
 "description": "",
 "extent": {
  "xmin": 1449488.75,
  "ymin": 666410,
  "xmax": 1591891.75,
  "ymax": 751126.75,
  "spatialReference": {
   "wkid": 103129,
   "latestWkid": 6549
  }
 },
 "initialExtent": {
  "xmin": 1449488.75,
  "ymin": 666410,
  "xmax": 1591891.75,
  "ymax": 751126.75,
  "spatialReference": {
   "wkid": 103129,
   "latestWkid": 6549
  }
 },
 "fullExtent": {
  "xmin": 1449488.75,
  "ymin": 666410,
  "xmax": 1591891.75,
  "ymax": 751126.75,
  "spatialReference": {
   "wkid": 103129,
   "latestWkid": 6549
  }
 },
 "sortableFields": "",
 "bandCount": 4,
 "pixelType": "U8",
 "minValues": [
  0,
  0,
  0,
  0
 ],
 "maxValues": [
  255,
  255,
  255,
  255
 ],
 "meanValues": [
  118.07971073117,
  101.79523661325,
  81.315600457601,
  239.964842363
 ],
 "stdvValues": [
  45.754837965358,
  39.589129799975,
  34.114629717061,
  60.065873291059
 ],
 "hasMultidimensions": false,
 "pixelSizeX": 0.25,
 "pixelSizeY": 0.25,
 "meanPixelSize": 0.07620015240030481,
 "datasetFormat": "MrSID",
 "uncompressedSize": 772090838416,
 "blockWidth": 1024,
 "blockHeight": 128,
 "compressionType": "Wavelet (MG4)",
 "bandNames": [
  "Band_1",
  "Band_2",
  "Band_3",
  "Band_4"
 ],
 "allowCopy": false,
 "allowAnalysis": true,
 "itemAccess": false,
 "inspectionCapabilities": "",
 "noDataValue": 0,
 "noDataValues": [
  0,
  0,
  0,
  0
 ],
 "minPixelSize": 0,
 "maxPixelSize": 0,
 "copyrightText": "",
 "serviceDataType": "esriImageServiceDataTypeGeneric",
 "serviceSourceType": "esriImageServiceSourceTypeDataset",
 "objectIdField": "",
 "fields": [],
 "capabilities": "Image,Metadata,Mensuration",
 "defaultMosaicMethod": "Center",
 "allowedMosaicMethods": "",
 "sortField": "",
 "sortValue": null,
 "sortAscending": true,
 "mosaicOperator": "First",
 "defaultCompressionQuality": 75,
 "defaultResamplingMethod": "Bilinear",
 "maxImageHeight": 4100,
 "maxImageWidth": 15000,
 "allowRasterFunction": true,
 "rasterFunctionInfos": [
  {
   "name": "None",
   "description": "",
   "help": ""
  }
 ],
 "rasterTypeInfos": [
  {
   "name": "Raster Dataset",
   "description": "Supports all ArcGIS Raster Datasets",
   "help": ""
  }
 ],
 "mensurationCapabilities": "Basic",
 "hasHistograms": true,
 "hasColormap": false,
 "hasRasterAttributeTable": false,
 "minScale": 0,
 "maxScale": 0,
 "exportTilesAllowed": false,
 "supportsStatistics": false,
 "supportsAdvancedQueries": false,
 "editFieldsInfo": null,
 "ownershipBasedAccessControlForRasters": null,
 "allowComputeTiePoints": false,
 "useStandardizedQueries": true,
 "advancedQueryCapabilities": {
  "useStandardizedQueries": true,
  "supportsStatistics": false,
  "supportsOrderBy": false,
  "supportsDistinct": false,
  "supportsPagination": false
 },
 "spatialReference": {
  "wkid": 103129,
  "latestWkid": 6549
 }
}
