{
 "currentVersion": 11.2,
 "serviceDescription": "FultonCounty_OH_Nearmap_SP21",
 "name": "FultonCounty_OH_Nearmap_SP21",
 "description": "",
 "extent": {
  "xmin": 440529.91418992396,
  "ymin": 202995.656855996,
  "xmax": 485591.63607664395,
  "ymax": 230354.55943007598,
  "spatialReference": {
   "wkt2": "PROJCRS[\"NAD83_NSRS2007_Ohio_North\",BASEGEOGCRS[\"GCS_NAD_1983_2007\",DATUM[\"D_NAD83_NATIONAL_SPATIAL_REFERENCE_SYSTEM_2007\",ELLIPSOID[\"GRS_1980\",6378137.0,298.257222101,LENGTHUNIT[\"Meter\",1.0]]],PRIMEM[\"Greenwich\",0.0,ANGLEUNIT[\"Degree\",0.0174532925199433]],CS[ellipsoidal,2],ANGLEUNIT[\"Degree\",0.0174532925199433]],CONVERSION[\"Lambert_Conformal_Conic\",METHOD[\"Lambert_Conformal_Conic\"],PARAMETER[\"False_Easting\",600000.0,LENGTHUNIT[\"Meter\",1.0]],PARAMETER[\"False_Northing\",0.0,LENGTHUNIT[\"Meter\",1.0]],PARAMETER[\"Central_Meridian\",-82.5,ANGLEUNIT[\"Degree\",0.0174532925199433]],PARAMETER[\"Standard_Parallel_1\",40.4333333333333,ANGLEUNIT[\"Degree\",0.0174532925199433]],PARAMETER[\"Standard_Parallel_2\",41.7,ANGLEUNIT[\"Degree\",0.0174532925199433]],PARAMETER[\"Latitude_Of_Origin\",39.6666666666667,ANGLEUNIT[\"Degree\",0.0174532925199433]]],CS[Cartesian,2],AXIS[\"Easting (X)\",east,ORDER[1]],AXIS[\"Northing (Y)\",north,ORDER[2]],LENGTHUNIT[\"Meter\",1.0]]",
   "wkt": "PROJCS[\"NAD83_NSRS2007_Ohio_North\",GEOGCS[\"GCS_NAD_1983_2007\",DATUM[\"D_NAD83_NATIONAL_SPATIAL_REFERENCE_SYSTEM_2007\",SPHEROID[\"GRS_1980\",6378137.0,298.257222101]],PRIMEM[\"Greenwich\",0.0],UNIT[\"Degree\",0.0174532925199433]],PROJECTION[\"Lambert_Conformal_Conic\"],PARAMETER[\"False_Easting\",600000.0],PARAMETER[\"False_Northing\",0.0],PARAMETER[\"Central_Meridian\",-82.5],PARAMETER[\"Standard_Parallel_1\",40.4333333333333],PARAMETER[\"Standard_Parallel_2\",41.7],PARAMETER[\"Latitude_Of_Origin\",39.6666666666667],UNIT[\"Meter\",1.0]]"
  }
 },
 "initialExtent": {
  "xmin": 440529.91418992396,
  "ymin": 202995.656855996,
  "xmax": 485591.63607664395,
  "ymax": 230354.55943007598,
  "spatialReference": {
   "wkt2": "PROJCRS[\"NAD83_NSRS2007_Ohio_North\",BASEGEOGCRS[\"GCS_NAD_1983_2007\",DATUM[\"D_NAD83_NATIONAL_SPATIAL_REFERENCE_SYSTEM_2007\",ELLIPSOID[\"GRS_1980\",6378137.0,298.257222101,LENGTHUNIT[\"Meter\",1.0]]],PRIMEM[\"Greenwich\",0.0,ANGLEUNIT[\"Degree\",0.0174532925199433]],CS[ellipsoidal,2],ANGLEUNIT[\"Degree\",0.0174532925199433]],CONVERSION[\"Lambert_Conformal_Conic\",METHOD[\"Lambert_Conformal_Conic\"],PARAMETER[\"False_Easting\",600000.0,LENGTHUNIT[\"Meter\",1.0]],PARAMETER[\"False_Northing\",0.0,LENGTHUNIT[\"Meter\",1.0]],PARAMETER[\"Central_Meridian\",-82.5,ANGLEUNIT[\"Degree\",0.0174532925199433]],PARAMETER[\"Standard_Parallel_1\",40.4333333333333,ANGLEUNIT[\"Degree\",0.0174532925199433]],PARAMETER[\"Standard_Parallel_2\",41.7,ANGLEUNIT[\"Degree\",0.0174532925199433]],PARAMETER[\"Latitude_Of_Origin\",39.6666666666667,ANGLEUNIT[\"Degree\",0.0174532925199433]]],CS[Cartesian,2],AXIS[\"Easting (X)\",east,ORDER[1]],AXIS[\"Northing (Y)\",north,ORDER[2]],LENGTHUNIT[\"Meter\",1.0]]",
   "wkt": "PROJCS[\"NAD83_NSRS2007_Ohio_North\",GEOGCS[\"GCS_NAD_1983_2007\",DATUM[\"D_NAD83_NATIONAL_SPATIAL_REFERENCE_SYSTEM_2007\",SPHEROID[\"GRS_1980\",6378137.0,298.257222101]],PRIMEM[\"Greenwich\",0.0],UNIT[\"Degree\",0.0174532925199433]],PROJECTION[\"Lambert_Conformal_Conic\"],PARAMETER[\"False_Easting\",600000.0],PARAMETER[\"False_Northing\",0.0],PARAMETER[\"Central_Meridian\",-82.5],PARAMETER[\"Standard_Parallel_1\",40.4333333333333],PARAMETER[\"Standard_Parallel_2\",41.7],PARAMETER[\"Latitude_Of_Origin\",39.6666666666667],UNIT[\"Meter\",1.0]]"
  }
 },
 "fullExtent": {
  "xmin": 440529.91418992396,
  "ymin": 202995.656855996,
  "xmax": 485591.63607664395,
  "ymax": 230354.55943007598,
  "spatialReference": {
   "wkt2": "PROJCRS[\"NAD83_NSRS2007_Ohio_North\",BASEGEOGCRS[\"GCS_NAD_1983_2007\",DATUM[\"D_NAD83_NATIONAL_SPATIAL_REFERENCE_SYSTEM_2007\",ELLIPSOID[\"GRS_1980\",6378137.0,298.257222101,LENGTHUNIT[\"Meter\",1.0]]],PRIMEM[\"Greenwich\",0.0,ANGLEUNIT[\"Degree\",0.0174532925199433]],CS[ellipsoidal,2],ANGLEUNIT[\"Degree\",0.0174532925199433]],CONVERSION[\"Lambert_Conformal_Conic\",METHOD[\"Lambert_Conformal_Conic\"],PARAMETER[\"False_Easting\",600000.0,LENGTHUNIT[\"Meter\",1.0]],PARAMETER[\"False_Northing\",0.0,LENGTHUNIT[\"Meter\",1.0]],PARAMETER[\"Central_Meridian\",-82.5,ANGLEUNIT[\"Degree\",0.0174532925199433]],PARAMETER[\"Standard_Parallel_1\",40.4333333333333,ANGLEUNIT[\"Degree\",0.0174532925199433]],PARAMETER[\"Standard_Parallel_2\",41.7,ANGLEUNIT[\"Degree\",0.0174532925199433]],PARAMETER[\"Latitude_Of_Origin\",39.6666666666667,ANGLEUNIT[\"Degree\",0.0174532925199433]]],CS[Cartesian,2],AXIS[\"Easting (X)\",east,ORDER[1]],AXIS[\"Northing (Y)\",north,ORDER[2]],LENGTHUNIT[\"Meter\",1.0]]",
   "wkt": "PROJCS[\"NAD83_NSRS2007_Ohio_North\",GEOGCS[\"GCS_NAD_1983_2007\",DATUM[\"D_NAD83_NATIONAL_SPATIAL_REFERENCE_SYSTEM_2007\",SPHEROID[\"GRS_1980\",6378137.0,298.257222101]],PRIMEM[\"Greenwich\",0.0],UNIT[\"Degree\",0.0174532925199433]],PROJECTION[\"Lambert_Conformal_Conic\"],PARAMETER[\"False_Easting\",600000.0],PARAMETER[\"False_Northing\",0.0],PARAMETER[\"Central_Meridian\",-82.5],PARAMETER[\"Standard_Parallel_1\",40.4333333333333],PARAMETER[\"Standard_Parallel_2\",41.7],PARAMETER[\"Latitude_Of_Origin\",39.6666666666667],UNIT[\"Meter\",1.0]]"
  }
 },
 "sortableFields": "",
 "bandCount": 4,
 "pixelType": "U8",
 "minValues": [
  0,
  0,
  0,
  0
 ],
 "maxValues": [
  255,
  255,
  255,
  255
 ],
 "meanValues": [
  132.37297633873,
  118.90815691158,
  106.84682440847,
  235.02117061021
 ],
 "stdvValues": [
  48.53907149403,
  47.130868603367,
  46.585867361903,
  68.219840407903
 ],
 "hasMultidimensions": false,
 "pixelSizeX": 0.07620015199999998,
 "pixelSizeY": 0.07620015199999995,
 "meanPixelSize": 0.07620015199999997,
 "datasetFormat": "MrSID",
 "uncompressedSize": 849287577600,
 "blockWidth": 1024,
 "blockHeight": 128,
 "compressionType": "Wavelet (MG4)",
 "bandNames": [
  "Band_1",
  "Band_2",
  "Band_3",
  "Band_4"
 ],
 "allowCopy": true,
 "allowAnalysis": true,
 "itemAccess": false,
 "inspectionCapabilities": "",
 "noDataValue": 255,
 "noDataValues": [
  255,
  255,
  255,
  255
 ],
 "minPixelSize": 0,
 "maxPixelSize": 0,
 "copyrightText": "",
 "serviceDataType": "esriImageServiceDataTypeGeneric",
 "serviceSourceType": "esriImageServiceSourceTypeDataset",
 "objectIdField": "",
 "fields": [],
 "capabilities": "Image,Mensuration,Metadata,Tilemap",
 "defaultMosaicMethod": "Center",
 "allowedMosaicMethods": "",
 "sortField": "",
 "sortValue": null,
 "sortAscending": true,
 "mosaicOperator": "First",
 "defaultCompressionQuality": 75,
 "defaultResamplingMethod": "Bilinear",
 "maxImageHeight": 4100,
 "maxImageWidth": 15000,
 "allowRasterFunction": true,
 "rasterFunctionInfos": [
  {
   "name": "None",
   "description": "",
   "help": ""
  }
 ],
 "rasterTypeInfos": [
  {
   "name": "Raster Dataset",
   "description": "Supports all ArcGIS Raster Datasets",
   "help": ""
  }
 ],
 "mensurationCapabilities": "Basic",
 "hasHistograms": true,
 "hasColormap": false,
 "hasRasterAttributeTable": false,
 "minScale": 0,
 "maxScale": 0,
 "exportTilesAllowed": false,
 "supportsStatistics": false,
 "supportsAdvancedQueries": false,
 "editFieldsInfo": null,
 "ownershipBasedAccessControlForRasters": null,
 "allowComputeTiePoints": false,
 "useStandardizedQueries": true,
 "advancedQueryCapabilities": {
  "useStandardizedQueries": true,
  "supportsStatistics": false,
  "supportsOrderBy": false,
  "supportsDistinct": false,
  "supportsPagination": false
 },
 "spatialReference": {
  "wkt2": "PROJCRS[\"NAD83_NSRS2007_Ohio_North\",BASEGEOGCRS[\"GCS_NAD_1983_2007\",DATUM[\"D_NAD83_NATIONAL_SPATIAL_REFERENCE_SYSTEM_2007\",ELLIPSOID[\"GRS_1980\",6378137.0,298.257222101,LENGTHUNIT[\"Meter\",1.0]]],PRIMEM[\"Greenwich\",0.0,ANGLEUNIT[\"Degree\",0.0174532925199433]],CS[ellipsoidal,2],ANGLEUNIT[\"Degree\",0.0174532925199433]],CONVERSION[\"Lambert_Conformal_Conic\",METHOD[\"Lambert_Conformal_Conic\"],PARAMETER[\"False_Easting\",600000.0,LENGTHUNIT[\"Meter\",1.0]],PARAMETER[\"False_Northing\",0.0,LENGTHUNIT[\"Meter\",1.0]],PARAMETER[\"Central_Meridian\",-82.5,ANGLEUNIT[\"Degree\",0.0174532925199433]],PARAMETER[\"Standard_Parallel_1\",40.4333333333333,ANGLEUNIT[\"Degree\",0.0174532925199433]],PARAMETER[\"Standard_Parallel_2\",41.7,ANGLEUNIT[\"Degree\",0.0174532925199433]],PARAMETER[\"Latitude_Of_Origin\",39.6666666666667,ANGLEUNIT[\"Degree\",0.0174532925199433]]],CS[Cartesian,2],AXIS[\"Easting (X)\",east,ORDER[1]],AXIS[\"Northing (Y)\",north,ORDER[2]],LENGTHUNIT[\"Meter\",1.0]]",
  "wkt": "PROJCS[\"NAD83_NSRS2007_Ohio_North\",GEOGCS[\"GCS_NAD_1983_2007\",DATUM[\"D_NAD83_NATIONAL_SPATIAL_REFERENCE_SYSTEM_2007\",SPHEROID[\"GRS_1980\",6378137.0,298.257222101]],PRIMEM[\"Greenwich\",0.0],UNIT[\"Degree\",0.0174532925199433]],PROJECTION[\"Lambert_Conformal_Conic\"],PARAMETER[\"False_Easting\",600000.0],PARAMETER[\"False_Northing\",0.0],PARAMETER[\"Central_Meridian\",-82.5],PARAMETER[\"Standard_Parallel_1\",40.4333333333333],PARAMETER[\"Standard_Parallel_2\",41.7],PARAMETER[\"Latitude_Of_Origin\",39.6666666666667],UNIT[\"Meter\",1.0]]"
 }
}
